BEGIN:VCALENDAR
VERSION:2.0
PRODID:-//https://www.kiga-leider.de///NONSGML kigkonsult.se iCalcreator 2.10.15//
METHOD:PUBLISH
BEGIN:VEVENT
UID:20260421T050427CEST-09778cEcEv@https://www.kiga-leider.de/
DTSTAMP:20260421T030427Z
DESCRIPTION: https://www.kiga-leider.de/component/rseventspro/event/120-anm
 eldungen-für-das-kita-jahr-2021-2022?Itemid=101
DTSTART;VALUE=DATE:20201130
LOCATION:Haus für Kinder St. Laurentius Aschaffenburg-Leider (Karlsbader St
 r. 5\, 63741 Aschaffenburg\, Deutschland)
SUMMARY:Anmeldungen für das KiTa-Jahr 2021/2022
URL:https://www.kiga-leider.de/component/rseventspro/event/120-anmeldungen-
 für-das-kita-jahr-2021-2022?Itemid=101
END:VEVENT
END:VCALENDAR
